BEGIN:VCALENDAR
PRODID:-//Microsoft Corporation//Outlook 16.0 MIMEDIR//EN
VERSION:2.0
METHOD:REQUEST
X-MS-OLK-FORCEINSPECTOROPEN:TRUE
BEGIN:VTIMEZONE
TZID:Central Standard Time
BEGIN:STANDARD
DTSTART:16011104T020000
RRULE:FREQ=YEARLY;BYDAY=1SU;BYMONTH=11
TZOFFSETFROM:-0500
TZOFFSETTO:-0600
END:STANDARD
BEGIN:DAYLIGHT
DTSTART:16010311T020000
RRULE:FREQ=YEARLY;BYDAY=2SU;BYMONTH=3
TZOFFSETFROM:-0600
TZOFFSETTO:-0500
END:DAYLIGHT
END:VTIMEZONE
BEGIN:VEVENT
ATTENDEE;CN="Stone 1";CUTYPE=RESOURCE;ROLE=NON-PARTICIPANT;RSVP=TRUE:mailto
	:Stone1@allchicago.org
CLASS:PUBLIC
CREATED:20191119T225814Z
DESCRIPTION:\n_____________________________________________________________
	___________________ \nJoin Microsoft Teams Meeting <https://teams.microsof
	t.com/l/meetup-join/19%3ameeting_ZjE3ZjkxNzQtYTc5OC00MTY1LTgyMjktZTNlZjcwZ
	WYwNmE0%40thread.v2/0?context=%7b%22Tid%22%3a%22bdb5f8e0-a7fb-460e-83e7-fa
	301645d48a%22%2c%22Oid%22%3a%225ae3d34a-9989-4f22-8ad1-6d0c4453d5d9%22%7d>
	  \n+1 312-667-5004 <tel:+1 312-667-5004\,\,286733835>    United States\, 
	Chicago (Toll) \nConference ID: 286 733 835# \nLocal numbers <https://dial
	in.teams.microsoft.com/f41b5ce4-9ef9-4482-b006-13a68e407f6a?id=286733835> 
	 | Reset PIN <https://mysettings.lync.com/pstnconferencing>  | Learn more 
	about Teams <https://aka.ms/JoinTeamsMeeting>  | Meeting options <https://
	teams.microsoft.com/meetingOptions/?organizerId=5ae3d34a-9989-4f22-8ad1-6d
	0c4453d5d9&tenantId=bdb5f8e0-a7fb-460e-83e7-fa301645d48a&threadId=19_meeti
	ng_ZjE3ZjkxNzQtYTc5OC00MTY1LTgyMjktZTNlZjcwZWYwNmE0@thread.v2&messageId=0&
	language=en-US>  \n_______________________________________________________
	_________________________ \n\n
DTEND;TZID="Central Standard Time":20200218T113000
DTSTAMP:20191119T225751Z
DTSTART;TZID="Central Standard Time":20200218T100000
LAST-MODIFIED:20191119T225814Z
LOCATION:651 W. Washington Blvd.\, Suite 504 - Stone 1
ORGANIZER;CN="Salvador Munoz":mailto:SMunoz@allchicago.org
PRIORITY:5
RECURRENCE-ID;TZID="Central Standard Time":20200218T100000
SEQUENCE:0
SUMMARY;LANGUAGE=en-us:Data Quality Workgroup
TRANSP:OPAQUE
UID:040000008200E00074C5B7101A82E00800000000D02DD35FCC9ED501000000000000000
	01000000063F7C82A22C631469E55D5F3B6A475B9
X-ALT-DESC;FMTTYPE=text/html:<!DOCTYPE HTML PUBLIC "-//W3C//DTD HTML 3.2//E
	N">\n<HTML>\n<HEAD>\n<META NAME="Generator" CONTENT="MS Exchange Server ve
	rsion 16.0.11328.20438">\n<TITLE></TITLE>\n</HEAD>\n<BODY>\n<!-- Converted
	 from text/rtf format -->\n\n<P DIR=LTR><SPAN LANG="en-us"></SPAN></P>\n\n
	<P DIR=LTR><SPAN LANG="en-us"><FONT COLOR="#808080" FACE="Calibri">_______
	________________________________________________________________________</
	FONT></SPAN><SPAN LANG="en-us"><FONT COLOR="#808080" FACE="Calibri">_</FON
	T></SPAN><SPAN LANG="en-us"><FONT FACE="Calibri"> </FONT></SPAN></P>\n\n<P
	 DIR=LTR><SPAN LANG="en-us"></SPAN><A HREF="https://teams.microsoft.com/l/
	meetup-join/19%3ameeting_ZjE3ZjkxNzQtYTc5OC00MTY1LTgyMjktZTNlZjcwZWYwNmE0%
	40thread.v2/0?context=%7b%22Tid%22%3a%22bdb5f8e0-a7fb-460e-83e7-fa301645d4
	8a%22%2c%22Oid%22%3a%225ae3d34a-9989-4f22-8ad1-6d0c4453d5d9%22%7d"><SPAN L
	ANG="en-us"></SPAN><SPAN LANG="en-us"></SPAN><SPAN LANG="en-us"><U><FONT C
	OLOR="#6264A7" SIZE=4 FACE="Segoe UI Semibold">Join Microsoft Teams Meetin
	g</FONT></U></SPAN><SPAN LANG="en-us"></SPAN></A><SPAN LANG="en-us"></SPAN
	><SPAN LANG="en-us"><FONT COLOR="#252424" FACE="Segoe UI"> </FONT></SPAN><
	/P>\n\n<P DIR=LTR><SPAN LANG="en-us"></SPAN><A HREF="tel:+1 312-667-5004\,
	\,286733835"><SPAN LANG="en-us"></SPAN><SPAN LANG="en-us"></SPAN><SPAN LAN
	G="en-us"><FONT COLOR="#6264A7" FACE="Segoe UI">+1 312-667-5004</FONT></SP
	AN><SPAN LANG="en-us"></SPAN></A><SPAN LANG="en-us"></SPAN><SPAN LANG="en-
	us"><FONT COLOR="#252424" FACE="Segoe UI"></FONT></SPAN><SPAN LANG="en-us"
	></SPAN><SPAN LANG="en-us"></SPAN><SPAN LANG="en-us"> <FONT COLOR="#252424
	" SIZE=2 FACE="Segoe UI">  United States\, Chicago (Toll)</FONT></SPAN><S
	PAN LANG="en-us"></SPAN><SPAN LANG="en-us"> </SPAN></P>\n\n<P DIR=LTR><SPA
	N LANG="en-us"></SPAN><SPAN LANG="en-us"></SPAN><SPAN LANG="en-us"><FONT C
	OLOR="#252424" SIZE=2 FACE="Segoe UI">Conference ID:</FONT></SPAN><SPAN LA
	NG="en-us"></SPAN><SPAN LANG="en-us"></SPAN><SPAN LANG="en-us"> <FONT COLO
	R="#252424" FACE="Segoe UI">286 733 835#</FONT></SPAN><SPAN LANG="en-us"><
	/SPAN><SPAN LANG="en-us"> </SPAN></P>\n\n<P DIR=LTR><SPAN LANG="en-us"></S
	PAN><A HREF="https://dialin.teams.microsoft.com/f41b5ce4-9ef9-4482-b006-13
	a68e407f6a?id=286733835"><SPAN LANG="en-us"></SPAN><SPAN LANG="en-us"></SP
	AN><SPAN LANG="en-us"><FONT COLOR="#6264A7" SIZE=2 FACE="Segoe UI">Local n
	umbers</FONT></SPAN><SPAN LANG="en-us"></SPAN></A><SPAN LANG="en-us"></SPA
	N><SPAN LANG="en-us"><FONT COLOR="#252424" FACE="Segoe UI"> |</FONT></SPAN
	><SPAN LANG="en-us"> </SPAN><A HREF="https://mysettings.lync.com/pstnconfe
	rencing"><SPAN LANG="en-us"></SPAN><SPAN LANG="en-us"></SPAN><SPAN LANG="e
	n-us"><FONT COLOR="#6264A7" SIZE=2 FACE="Segoe UI">Reset PIN</FONT></SPAN>
	<SPAN LANG="en-us"></SPAN></A><SPAN LANG="en-us"></SPAN><SPAN LANG="en-us"
	><FONT COLOR="#252424" FACE="Segoe UI"> |</FONT></SPAN><SPAN LANG="en-us">
	 </SPAN><A HREF="https://aka.ms/JoinTeamsMeeting"><SPAN LANG="en-us"></SPA
	N><SPAN LANG="en-us"></SPAN><SPAN LANG="en-us"><FONT COLOR="#6264A7" SIZE=
	2 FACE="Segoe UI">Learn more about Teams</FONT></SPAN><SPAN LANG="en-us"><
	/SPAN></A><SPAN LANG="en-us"></SPAN><SPAN LANG="en-us"><FONT COLOR="#25242
	4" FACE="Segoe UI"> |</FONT></SPAN><SPAN LANG="en-us"> </SPAN><A HREF="htt
	ps://teams.microsoft.com/meetingOptions/?organizerId=5ae3d34a-9989-4f22-8a
	d1-6d0c4453d5d9&amp\;tenantId=bdb5f8e0-a7fb-460e-83e7-fa301645d48a&amp\;th
	readId=19_meeting_ZjE3ZjkxNzQtYTc5OC00MTY1LTgyMjktZTNlZjcwZWYwNmE0@thread.
	v2&amp\;messageId=0&amp\;language=en-US"><SPAN LANG="en-us"></SPAN><SPAN L
	ANG="en-us"></SPAN><SPAN LANG="en-us"><FONT COLOR="#6264A7" SIZE=2 FACE="S
	egoe UI">Meeting options</FONT></SPAN><SPAN LANG="en-us"></SPAN></A><SPAN 
	LANG="en-us"></SPAN><SPAN LANG="en-us"><FONT COLOR="#252424" FACE="Segoe U
	I"></FONT></SPAN><SPAN LANG="en-us"></SPAN><SPAN LANG="en-us"> </SPAN></P>
	\n\n<P DIR=LTR><SPAN LANG="en-us"><FONT COLOR="#808080" FACE="Calibri">___
	__________________________________________________________________________
	__</FONT></SPAN><SPAN LANG="en-us"><FONT COLOR="#808080" FACE="Calibri">_<
	/FONT></SPAN><SPAN LANG="en-us"><FONT FACE="Calibri"></FONT></SPAN><SPAN L
	ANG="en-us"> </SPAN></P>\n\n<P DIR=LTR><SPAN LANG="en-us"></SPAN></P>\n\n<
	/BODY>\n</HTML>
X-MICROSOFT-CDO-BUSYSTATUS:BUSY
X-MICROSOFT-CDO-IMPORTANCE:1
X-MICROSOFT-DISALLOW-COUNTER:FALSE
X-MS-OLK-APPTSEQTIME:20191119T225751Z
X-MS-OLK-AUTOFILLLOCATION:FALSE
X-MS-OLK-CONFTYPE:0
BEGIN:VALARM
TRIGGER:-PT15M
ACTION:DISPLAY
DESCRIPTION:Reminder
END:VALARM
END:VEVENT
END:VCALENDAR
